BEGIN:VCALENDAR
VERSION:2.0
PRODID:-//The Arc of Northern Virginia - ECPv6.15.20//NONSGML v1.0//EN
CALSCALE:GREGORIAN
METHOD:PUBLISH
X-WR-CALNAME:The Arc of Northern Virginia
X-ORIGINAL-URL:https://thearcofnova.org
X-WR-CALDESC:Events for The Arc of Northern Virginia
REFRESH-INTERVAL;VALUE=DURATION:PT1H
X-Robots-Tag:noindex
X-PUBLISHED-TTL:PT1H
BEGIN:VTIMEZONE
TZID:America/New_York
BEGIN:DAYLIGHT
TZOFFSETFROM:-0500
TZOFFSETTO:-0400
TZNAME:EDT
DTSTART:20240310T070000
END:DAYLIGHT
BEGIN:STANDARD
TZOFFSETFROM:-0400
TZOFFSETTO:-0500
TZNAME:EST
DTSTART:20241103T060000
END:STANDARD
BEGIN:DAYLIGHT
TZOFFSETFROM:-0500
TZOFFSETTO:-0400
TZNAME:EDT
DTSTART:20250309T070000
END:DAYLIGHT
BEGIN:STANDARD
TZOFFSETFROM:-0400
TZOFFSETTO:-0500
TZNAME:EST
DTSTART:20251102T060000
END:STANDARD
BEGIN:DAYLIGHT
TZOFFSETFROM:-0500
TZOFFSETTO:-0400
TZNAME:EDT
DTSTART:20260308T070000
END:DAYLIGHT
BEGIN:STANDARD
TZOFFSETFROM:-0400
TZOFFSETTO:-0500
TZNAME:EST
DTSTART:20261101T060000
END:STANDARD
END:VTIMEZONE
BEGIN:VEVENT
DTSTART;TZID=America/New_York:20250510T103000
DTEND;TZID=America/New_York:20250510T120000
DTSTAMP:20260424T062032
CREATED:20250326T181626Z
LAST-MODIFIED:20250326T181626Z
UID:8281-1746873000-1746878400@thearcofnova.org
SUMMARY:Affordable\, Inclusive Housing in Fairfax - Tour and Q & A
DESCRIPTION:  \nWe invite you to join us for a tour and Q and A session with Our Stomping Ground (OSG)\, a non-profit organization building inclusive communities in Northern Virginia. Their work empowers people with developmental disabilities to live interdependently in their own apartments and actively engage with their fellow residents\, communities\, and businesses to maximize self-determination and personal fulfillment. OSG serves individuals with and without Medicaid Waivers\, and with a range of support needs. \nThey’re kindly opening their doors at their Robinson property in Fairfax (on the George Mason University campus) for people with disabilities and their support networks to come see their work in action. Join us to learn more about OSG’s inclusive housing model\, tour resident apartments and community spaces\, and get your questions answered by the OSG team. \nPlease plan to meet in the Community Center\, which is located right between the Robinson and the Belmont (the adjacent apartment building). Limited free parking is available in the lot in front of the Robinson\, as well as on the nearby street. There is also a nearby campus parking garage available. \n  \n\n					\n				Register Now
URL:https://thearcofnova.org/event/affordable-inclusive-housing-in-fairfax-tour-and-q-a/
LOCATION:The Robinson\, 4530 University Drive\, Fairfax\, VA\, United States
CATEGORIES:housing
END:VEVENT
END:VCALENDAR