BEGIN:VCALENDAR
VERSION:2.0
PRODID:-//The Arc of Northern Virginia - ECPv6.15.20//NONSGML v1.0//EN
CALSCALE:GREGORIAN
METHOD:PUBLISH
X-WR-CALNAME:The Arc of Northern Virginia
X-ORIGINAL-URL:https://thearcofnova.org
X-WR-CALDESC:Events for The Arc of Northern Virginia
REFRESH-INTERVAL;VALUE=DURATION:PT1H
X-Robots-Tag:noindex
X-PUBLISHED-TTL:PT1H
BEGIN:VTIMEZONE
TZID:America/New_York
BEGIN:DAYLIGHT
TZOFFSETFROM:-0500
TZOFFSETTO:-0400
TZNAME:EDT
DTSTART:20240310T070000
END:DAYLIGHT
BEGIN:STANDARD
TZOFFSETFROM:-0400
TZOFFSETTO:-0500
TZNAME:EST
DTSTART:20241103T060000
END:STANDARD
BEGIN:DAYLIGHT
TZOFFSETFROM:-0500
TZOFFSETTO:-0400
TZNAME:EDT
DTSTART:20250309T070000
END:DAYLIGHT
BEGIN:STANDARD
TZOFFSETFROM:-0400
TZOFFSETTO:-0500
TZNAME:EST
DTSTART:20251102T060000
END:STANDARD
BEGIN:DAYLIGHT
TZOFFSETFROM:-0500
TZOFFSETTO:-0400
TZNAME:EDT
DTSTART:20260308T070000
END:DAYLIGHT
BEGIN:STANDARD
TZOFFSETFROM:-0400
TZOFFSETTO:-0500
TZNAME:EST
DTSTART:20261101T060000
END:STANDARD
END:VTIMEZONE
BEGIN:VEVENT
DTSTART;TZID=America/New_York:20251006T180000
DTEND;TZID=America/New_York:20251006T193000
DTSTAMP:20260423T221715
CREATED:20250813T182335Z
LAST-MODIFIED:20250813T183759Z
UID:8742-1759773600-1759779000@thearcofnova.org
SUMMARY:House Candidate Forums for Fairfax and Alexandria
DESCRIPTION:  \nPlease join us as we hear from House Districts covering Fairfax County\, Alexandria\, Springfield\, Centreville\, and Chantilly. Candidates will discuss their past work on issues important to the disability community\, as well as their policy plans for 2026. Attendees can submit questions in advance to lucy.beadnell@thearcofnova.org. The event will have ASL interpretation. \n  \nSponsored by the Autism Society of Northern Virginia and The Arc of Northern Virginia. \n  \n\n					\n				Register Here
URL:https://thearcofnova.org/event/house-candidate-forums-for-fairfax-and-alexandria-2/
LOCATION:Live\, online virtual meeting on Zoom
CATEGORIES:candidate forum
END:VEVENT
END:VCALENDAR