BEGIN:VCALENDAR
VERSION:2.0
PRODID:-//The Arc of Northern Virginia - ECPv6.15.20//NONSGML v1.0//EN
CALSCALE:GREGORIAN
METHOD:PUBLISH
X-ORIGINAL-URL:https://thearcofnova.org
X-WR-CALDESC:Events for The Arc of Northern Virginia
REFRESH-INTERVAL;VALUE=DURATION:PT1H
X-Robots-Tag:noindex
X-PUBLISHED-TTL:PT1H
BEGIN:VTIMEZONE
TZID:America/New_York
BEGIN:DAYLIGHT
TZOFFSETFROM:-0500
TZOFFSETTO:-0400
TZNAME:EDT
DTSTART:20240310T070000
END:DAYLIGHT
BEGIN:STANDARD
TZOFFSETFROM:-0400
TZOFFSETTO:-0500
TZNAME:EST
DTSTART:20241103T060000
END:STANDARD
BEGIN:DAYLIGHT
TZOFFSETFROM:-0500
TZOFFSETTO:-0400
TZNAME:EDT
DTSTART:20250309T070000
END:DAYLIGHT
BEGIN:STANDARD
TZOFFSETFROM:-0400
TZOFFSETTO:-0500
TZNAME:EST
DTSTART:20251102T060000
END:STANDARD
BEGIN:DAYLIGHT
TZOFFSETFROM:-0500
TZOFFSETTO:-0400
TZNAME:EDT
DTSTART:20260308T070000
END:DAYLIGHT
BEGIN:STANDARD
TZOFFSETFROM:-0400
TZOFFSETTO:-0500
TZNAME:EST
DTSTART:20261101T060000
END:STANDARD
END:VTIMEZONE
BEGIN:VEVENT
DTSTART;TZID=America/New_York:20251010T100000
DTEND;TZID=America/New_York:20251010T110000
DTSTAMP:20260423T221832
CREATED:20250905T181538Z
LAST-MODIFIED:20250905T181604Z
UID:8785-1760090400-1760094000@thearcofnova.org
SUMMARY:Top Financial Mistakes to Avoid for Dependents with Special Needs
DESCRIPTION:  \nNot planning for the future is the biggest mistake a family can make\, especially when it can impact a loved one with disabilities. But there are also some common mistakes that can be avoided. We’ll review some common planning situations with the understanding that the actual plan created for an individual with special needs will be unique to their needs and lifestyle. Some topics we will explore are government benefits\, the asset test and strategies to maintain eligibility. We will also discuss Special Needs Trusts\, ABLE accounts\, considerations for successor caregivers and leaving an inheritance/assets to an individual with a disability. Understanding various planning concepts and tools in special needs planning and avoiding common situations can provide a significant impact on the life of a loved one with special needs today and well into their future. \nSpeakers:\nJerry L. Hulick\, CLU\, ChFC\, ChSNC\, CLTC\nRyan D. Buck\, CLTC \n  \n\n					\n				Register Now
URL:https://thearcofnova.org/event/top-financial-mistakes/
LOCATION:Live\, online virtual meeting on Zoom
CATEGORIES:special needs trust
END:VEVENT
END:VCALENDAR