BEGIN:VCALENDAR
VERSION:2.0
PRODID:-//The Arc of Northern Virginia - ECPv6.15.20//NONSGML v1.0//EN
CALSCALE:GREGORIAN
METHOD:PUBLISH
X-WR-CALNAME:The Arc of Northern Virginia
X-ORIGINAL-URL:https://thearcofnova.org
X-WR-CALDESC:Events for The Arc of Northern Virginia
REFRESH-INTERVAL;VALUE=DURATION:PT1H
X-Robots-Tag:noindex
X-PUBLISHED-TTL:PT1H
BEGIN:VTIMEZONE
TZID:America/New_York
BEGIN:DAYLIGHT
TZOFFSETFROM:-0500
TZOFFSETTO:-0400
TZNAME:EDT
DTSTART:20250309T070000
END:DAYLIGHT
BEGIN:STANDARD
TZOFFSETFROM:-0400
TZOFFSETTO:-0500
TZNAME:EST
DTSTART:20251102T060000
END:STANDARD
BEGIN:DAYLIGHT
TZOFFSETFROM:-0500
TZOFFSETTO:-0400
TZNAME:EDT
DTSTART:20260308T070000
END:DAYLIGHT
BEGIN:STANDARD
TZOFFSETFROM:-0400
TZOFFSETTO:-0500
TZNAME:EST
DTSTART:20261101T060000
END:STANDARD
BEGIN:DAYLIGHT
TZOFFSETFROM:-0500
TZOFFSETTO:-0400
TZNAME:EDT
DTSTART:20270314T070000
END:DAYLIGHT
BEGIN:STANDARD
TZOFFSETFROM:-0400
TZOFFSETTO:-0500
TZNAME:EST
DTSTART:20271107T060000
END:STANDARD
END:VTIMEZONE
BEGIN:VEVENT
DTSTART;TZID=America/New_York:20260420T090000
DTEND;TZID=America/New_York:20260420T170000
DTSTAMP:20260420T030035
CREATED:20260318T170503Z
LAST-MODIFIED:20260325T193228Z
UID:9434-1776675600-1776704400@thearcofnova.org
SUMMARY:neXco National 3rd Annual Charity Golf Classic
DESCRIPTION:  \nWe’re grateful to be named a beneficiary of neXco National’s 3rd Annual Charity Golf Classic\, taking place at River Creek Club in Leesburg\, VA. This event brings people together for a day of golf\, networking\, and giving back. \nProceeds from the tournament will benefit The Arc of Northern Virginia and Blind Industries and Services of Maryland (BISM)\, supporting our shared commitment to inclusion\, independence\, and opportunity for individuals with intellectual\, developmental\, and visual disabilities. \nPresented by neXco National\, the 3rd Annual Charity Golf Classic is more than just a tournament; it celebrates community spirit\, networking\, and the love of golf. This event provides the opportunity to play on the prestigious River Creek Club in Leesburg\, VA\, connect with top professionals\, and\, most importantly\, support two important charities. \n\nDate: Monday April 20\, 2026\nTime: Begins at 9:00 am\nAddress: River Creek Club\, 43800 Olympic Blvd\, Leesburg\, VA 20176\n\n\n\n\n					\n				Registration/Information
URL:https://thearcofnova.org/event/nexco-national-3rd-annual-charity-golf-classic/
LOCATION:River Creek Club\, 43800 Olympic Blvd\, Leesburg\, VA\, 20176\, United States
END:VEVENT
END:VCALENDAR