BEGIN:VCALENDAR
VERSION:2.0
PRODID:-//The Arc of Northern Virginia - ECPv6.15.20//NONSGML v1.0//EN
CALSCALE:GREGORIAN
METHOD:PUBLISH
X-ORIGINAL-URL:https://thearcofnova.org
X-WR-CALDESC:Events for The Arc of Northern Virginia
REFRESH-INTERVAL;VALUE=DURATION:PT1H
X-Robots-Tag:noindex
X-PUBLISHED-TTL:PT1H
BEGIN:VTIMEZONE
TZID:America/New_York
BEGIN:DAYLIGHT
TZOFFSETFROM:-0500
TZOFFSETTO:-0400
TZNAME:EDT
DTSTART:20250309T070000
END:DAYLIGHT
BEGIN:STANDARD
TZOFFSETFROM:-0400
TZOFFSETTO:-0500
TZNAME:EST
DTSTART:20251102T060000
END:STANDARD
BEGIN:DAYLIGHT
TZOFFSETFROM:-0500
TZOFFSETTO:-0400
TZNAME:EDT
DTSTART:20260308T070000
END:DAYLIGHT
BEGIN:STANDARD
TZOFFSETFROM:-0400
TZOFFSETTO:-0500
TZNAME:EST
DTSTART:20261101T060000
END:STANDARD
BEGIN:DAYLIGHT
TZOFFSETFROM:-0500
TZOFFSETTO:-0400
TZNAME:EDT
DTSTART:20270314T070000
END:DAYLIGHT
BEGIN:STANDARD
TZOFFSETFROM:-0400
TZOFFSETTO:-0500
TZNAME:EST
DTSTART:20271107T060000
END:STANDARD
END:VTIMEZONE
BEGIN:VEVENT
DTSTART;TZID=America/New_York:20260107T190000
DTEND;TZID=America/New_York:20260107T200000
DTSTAMP:20260423T235236
CREATED:20251215T161545Z
LAST-MODIFIED:20251215T161545Z
UID:8991-1767812400-1767816000@thearcofnova.org
SUMMARY:Next Chapter Book Club
DESCRIPTION:  \nThe Arc of Northern Virginia and Our Stomping Ground invite people with intellectual and developmental disabilities to join Next Chapter Book Club\, a small\, inclusive group for reading\, sharing stories\, and making new friends! The club will meet 1st Wednesday of every month at 7 PM\, with space limited to 15 members (a waitlist will be available once full). \nReserve your spot and let us know any supports you may need by completing the registration form. Questions? Email Melissa Heifetz at melissa.heifetz@thearcofnova.org. \nStart your next chapter with us! \n  \n\n					\n				Register Now
URL:https://thearcofnova.org/event/next-chapter-book-club-2/
LOCATION:The View at Broadlands Apartments\, 21995 Flatiron Ter\, Ashburn\, VA\, 20148\, United States
CATEGORIES:book club
END:VEVENT
END:VCALENDAR