BEGIN:VCALENDAR
VERSION:2.0
PRODID:-//The Arc of Northern Virginia - ECPv6.15.20//NONSGML v1.0//EN
CALSCALE:GREGORIAN
METHOD:PUBLISH
X-WR-CALNAME:The Arc of Northern Virginia
X-ORIGINAL-URL:https://thearcofnova.org
X-WR-CALDESC:Events for The Arc of Northern Virginia
REFRESH-INTERVAL;VALUE=DURATION:PT1H
X-Robots-Tag:noindex
X-PUBLISHED-TTL:PT1H
BEGIN:VTIMEZONE
TZID:America/New_York
BEGIN:DAYLIGHT
TZOFFSETFROM:-0500
TZOFFSETTO:-0400
TZNAME:EDT
DTSTART:20230312T070000
END:DAYLIGHT
BEGIN:STANDARD
TZOFFSETFROM:-0400
TZOFFSETTO:-0500
TZNAME:EST
DTSTART:20231105T060000
END:STANDARD
BEGIN:DAYLIGHT
TZOFFSETFROM:-0500
TZOFFSETTO:-0400
TZNAME:EDT
DTSTART:20240310T070000
END:DAYLIGHT
BEGIN:STANDARD
TZOFFSETFROM:-0400
TZOFFSETTO:-0500
TZNAME:EST
DTSTART:20241103T060000
END:STANDARD
BEGIN:DAYLIGHT
TZOFFSETFROM:-0500
TZOFFSETTO:-0400
TZNAME:EDT
DTSTART:20250309T070000
END:DAYLIGHT
BEGIN:STANDARD
TZOFFSETFROM:-0400
TZOFFSETTO:-0500
TZNAME:EST
DTSTART:20251102T060000
END:STANDARD
END:VTIMEZONE
BEGIN:VEVENT
DTSTART;TZID=America/New_York:20240822T190000
DTEND;TZID=America/New_York:20240822T203000
DTSTAMP:20260421T224438
CREATED:20240815T153818Z
LAST-MODIFIED:20240819T155829Z
UID:7373-1724353200-1724358600@thearcofnova.org
SUMMARY:Entendiendo el Proceso de Educación Especial en la Escuela (Understanding the Special Education Process at School)
DESCRIPTION:  \n**Únase a Nosotros para un Taller en Línea: Entendiendo el Proceso de Educación Especial en la Escuela**\nEstamos emocionados de contar con la participación especial de Liz Uria de PEATC y Majo Flores de The Arc of Northern Virginia\, quienes presentarán sobre este importante tema. ¡No se lo querrá perder!\n📅 Fecha: Jueves\, 22 de agosto a las 7 PM \n  \nJoin Us for an Online Workshop: Understanding the Special Education Process at School**\nWe’re excited to have a special guest\, Liz Uria from PEATC\, along with Majo Flores from The Arc of Northern Virginia\, presenting on this important topic. You won’t want to miss it!\n📅 When: Thursday\, August 22 at 7 PM\n📍 Where: Online \n  \n\n					\n				Registro/Register
URL:https://thearcofnova.org/event/entendiendo-el-proceso-de-educacion-especial/
LOCATION:Live\, online virtual meeting on Zoom
CATEGORIES:en español,special education
END:VEVENT
END:VCALENDAR