BEGIN:VCALENDAR
VERSION:2.0
PRODID:-//The Arc of Northern Virginia - ECPv6.15.20//NONSGML v1.0//EN
CALSCALE:GREGORIAN
METHOD:PUBLISH
X-WR-CALNAME:The Arc of Northern Virginia
X-ORIGINAL-URL:https://thearcofnova.org
X-WR-CALDESC:Events for The Arc of Northern Virginia
REFRESH-INTERVAL;VALUE=DURATION:PT1H
X-Robots-Tag:noindex
X-PUBLISHED-TTL:PT1H
BEGIN:VTIMEZONE
TZID:America/New_York
BEGIN:DAYLIGHT
TZOFFSETFROM:-0500
TZOFFSETTO:-0400
TZNAME:EDT
DTSTART:20240310T070000
END:DAYLIGHT
BEGIN:STANDARD
TZOFFSETFROM:-0400
TZOFFSETTO:-0500
TZNAME:EST
DTSTART:20241103T060000
END:STANDARD
BEGIN:DAYLIGHT
TZOFFSETFROM:-0500
TZOFFSETTO:-0400
TZNAME:EDT
DTSTART:20250309T070000
END:DAYLIGHT
BEGIN:STANDARD
TZOFFSETFROM:-0400
TZOFFSETTO:-0500
TZNAME:EST
DTSTART:20251102T060000
END:STANDARD
BEGIN:DAYLIGHT
TZOFFSETFROM:-0500
TZOFFSETTO:-0400
TZNAME:EDT
DTSTART:20260308T070000
END:DAYLIGHT
BEGIN:STANDARD
TZOFFSETFROM:-0400
TZOFFSETTO:-0500
TZNAME:EST
DTSTART:20261101T060000
END:STANDARD
END:VTIMEZONE
BEGIN:VEVENT
DTSTART;TZID=America/New_York:20250320T110000
DTEND;TZID=America/New_York:20250320T120000
DTSTAMP:20260421T105534
CREATED:20250218T204857Z
LAST-MODIFIED:20250316T162608Z
UID:8186-1742468400-1742472000@thearcofnova.org
SUMMARY:All About Extended School Year (ESY) - POSTPONED
DESCRIPTION:  \nTHIS EVENT HAS BEEN POSTPONED.\n\nWhich students qualify for Extended School Year (ESY) services and what is the process for determining who qualifies?  In this session we will clear up any confusion about the criteria for determining ESY eligibility\, what typical ESY schedules and environments may look like\, and learn what questions to ask in an IEP meeting when you believe your child is entitled to ESY.\nLiz Capone\, M.S. is an advocate\, expert witness\, and former Special Education teacher of 21 years\, also having been an IEP Coordinator and Special Education Team Leader. With 21 years of Special Education teaching experience\, she has taught at all grade levels from PreK-12.
URL:https://thearcofnova.org/event/all-about-extended-school-year-esy/
LOCATION:Live\, online virtual meeting on Zoom
CATEGORIES:special education
END:VEVENT
BEGIN:VEVENT
DTSTART;VALUE=DATE:20250326
DTEND;VALUE=DATE:20250327
DTSTAMP:20260421T105534
CREATED:20250226T153645Z
LAST-MODIFIED:20250226T153645Z
UID:8210-1742947200-1743033599@thearcofnova.org
SUMMARY:March Chat with an Attorney about Special Education
DESCRIPTION:  \nParents can schedule a free 45-minute meeting with attorney Patricia Connally to receive advice and guidance on any number of special education topics for their student. Appointments are for special education issues only. If you have a question about other legal matters\, please contact dmonnig@thearcofnova.org for additional resources. \n\n					\n				Register Now!
URL:https://thearcofnova.org/event/march-chat-with-an-attorney-about-special-education/
LOCATION:Live\, online virtual meeting on Zoom
CATEGORIES:special education
END:VEVENT
END:VCALENDAR