BEGIN:VCALENDAR
VERSION:2.0
PRODID:-//The Arc of Northern Virginia - ECPv6.15.20//NONSGML v1.0//EN
CALSCALE:GREGORIAN
METHOD:PUBLISH
X-WR-CALNAME:The Arc of Northern Virginia
X-ORIGINAL-URL:https://thearcofnova.org
X-WR-CALDESC:Events for The Arc of Northern Virginia
REFRESH-INTERVAL;VALUE=DURATION:PT1H
X-Robots-Tag:noindex
X-PUBLISHED-TTL:PT1H
BEGIN:VTIMEZONE
TZID:America/New_York
BEGIN:DAYLIGHT
TZOFFSETFROM:-0500
TZOFFSETTO:-0400
TZNAME:EDT
DTSTART:20240310T070000
END:DAYLIGHT
BEGIN:STANDARD
TZOFFSETFROM:-0400
TZOFFSETTO:-0500
TZNAME:EST
DTSTART:20241103T060000
END:STANDARD
BEGIN:DAYLIGHT
TZOFFSETFROM:-0500
TZOFFSETTO:-0400
TZNAME:EDT
DTSTART:20250309T070000
END:DAYLIGHT
BEGIN:STANDARD
TZOFFSETFROM:-0400
TZOFFSETTO:-0500
TZNAME:EST
DTSTART:20251102T060000
END:STANDARD
BEGIN:DAYLIGHT
TZOFFSETFROM:-0500
TZOFFSETTO:-0400
TZNAME:EDT
DTSTART:20260308T070000
END:DAYLIGHT
BEGIN:STANDARD
TZOFFSETFROM:-0400
TZOFFSETTO:-0500
TZNAME:EST
DTSTART:20261101T060000
END:STANDARD
END:VTIMEZONE
BEGIN:VEVENT
DTSTART;TZID=America/New_York:20250114T120000
DTEND;TZID=America/New_York:20250114T130000
DTSTAMP:20260421T162433
CREATED:20241126T185600Z
LAST-MODIFIED:20241204T202829Z
UID:7938-1736856000-1736859600@thearcofnova.org
SUMMARY:Use Your Words: Getting Community & School Supports in Early Childhood
DESCRIPTION:  \nDo you have doubts about whether your child is hitting developmental milestones? Are you concerned that your child is not being adequately challenged or supported? \nKnow what to ask for and how. Join education attorney Juliet Hiznay for this interactive online workshop for parents of infants\, toddlers and young children. \nThe Use Your Words Workshop will empower you to advocate for your child so you can: \n\nIdentify medical and therapeutic specialists who assess and treat young children;\nLearn about city or county infant-toddler programs and child find public school programs;\nMaster “magic” words so you can more effectively advocate for your child;\nCommunicate with confidence\, using commonplace acronyms such as ITC\, PIE\, IFSP\, IEP\, IDEA\, 504\, LRE\, FAPE\, 2E\, DD and CCC+ etc.;\nDiscover the breadth of eligibility categories for special education\, as defined under Virginia state law; and\nUnderstand when to pursue private assessment and therapy as a supplement or alternative to public programs.\n\n\n					\n				Register Now
URL:https://thearcofnova.org/event/use-your-words/
LOCATION:Live\, online virtual meeting on Zoom
CATEGORIES:special education
END:VEVENT
END:VCALENDAR