BEGIN:VCALENDAR
VERSION:2.0
PRODID:-//The Arc of Northern Virginia - ECPv6.15.20//NONSGML v1.0//EN
CALSCALE:GREGORIAN
METHOD:PUBLISH
X-WR-CALNAME:The Arc of Northern Virginia
X-ORIGINAL-URL:https://thearcofnova.org
X-WR-CALDESC:Events for The Arc of Northern Virginia
REFRESH-INTERVAL;VALUE=DURATION:PT1H
X-Robots-Tag:noindex
X-PUBLISHED-TTL:PT1H
BEGIN:VTIMEZONE
TZID:America/New_York
BEGIN:DAYLIGHT
TZOFFSETFROM:-0500
TZOFFSETTO:-0400
TZNAME:EDT
DTSTART:20240310T070000
END:DAYLIGHT
BEGIN:STANDARD
TZOFFSETFROM:-0400
TZOFFSETTO:-0500
TZNAME:EST
DTSTART:20241103T060000
END:STANDARD
BEGIN:DAYLIGHT
TZOFFSETFROM:-0500
TZOFFSETTO:-0400
TZNAME:EDT
DTSTART:20250309T070000
END:DAYLIGHT
BEGIN:STANDARD
TZOFFSETFROM:-0400
TZOFFSETTO:-0500
TZNAME:EST
DTSTART:20251102T060000
END:STANDARD
BEGIN:DAYLIGHT
TZOFFSETFROM:-0500
TZOFFSETTO:-0400
TZNAME:EDT
DTSTART:20260308T070000
END:DAYLIGHT
BEGIN:STANDARD
TZOFFSETFROM:-0400
TZOFFSETTO:-0500
TZNAME:EST
DTSTART:20261101T060000
END:STANDARD
END:VTIMEZONE
BEGIN:VEVENT
DTSTART;TZID=America/New_York:20250102T120000
DTEND;TZID=America/New_York:20250102T130000
DTSTAMP:20260422T082120
CREATED:20240813T202101Z
LAST-MODIFIED:20240917T162242Z
UID:7231-1735819200-1735822800@thearcofnova.org
SUMMARY:Building Independence with the TFIL Team
DESCRIPTION:  \nThe Tech for Independent Living Team invites you to join their monthly virtual event on the FIRST Thursday of each month to discover the amazing Arc2Independence app! It’s designed to help individuals achieve independence within their daily lives and navigate challenges in the community. They can’t wait to share this with you! \nJoin the team every first Thursday of the month to learn more about the app\, these customizable lessons\, and the service and support the team provides that helps guide individuals through life’s daily routines and challenges. \nRemember\, all of our webinar events are FREE to attend\, but pre-registration is required. \n  \n\n					\n				Register Now
URL:https://thearcofnova.org/event/building-independence-with-the-tfil-team-5/
LOCATION:Live\, online virtual meeting on Zoom
CATEGORIES:Arc2Independence,tfil
END:VEVENT
BEGIN:VEVENT
DTSTART;TZID=America/New_York:20250111T100000
DTEND;TZID=America/New_York:20250111T130000
DTSTAMP:20260422T082120
CREATED:20241203T210618Z
LAST-MODIFIED:20250110T230730Z
UID:7953-1736589600-1736600400@thearcofnova.org
SUMMARY:TFIL Cooking Club with Arc2Independence - POSTPONED
DESCRIPTION:  \nNOTE: This event has been postponed to February 8 due to the threat of inclement weather.\n  \nJoin the TFIL teams inclusive cooking class\, where you’ll use our app\, Arc2Independence\, to guide you through step-by-step instructional cooking. In this holiday session we’ll be making “Candy Cane Dippers” and “Hot Chocolate Popcorn Balls.” \nPlease contact keziah.wohlers@thearcofnova.org for additional details. \n\n					\n				Register now!\n			\n		\n					\n				\n\n\n\n			\n			\n 
URL:https://thearcofnova.org/event/tfil-cooking-club-with-arc2independence/
LOCATION:The Arc of Northern Virginia\, 3060 Williams Drive Suite 300\, Fairfax\, VA\, 22031\, United States
CATEGORIES:Arc2Independence,tfil
END:VEVENT
END:VCALENDAR