BEGIN:VCALENDAR
VERSION:2.0
PRODID:-//The Arc of Northern Virginia - ECPv6.15.20//NONSGML v1.0//EN
CALSCALE:GREGORIAN
METHOD:PUBLISH
X-WR-CALNAME:The Arc of Northern Virginia
X-ORIGINAL-URL:https://thearcofnova.org
X-WR-CALDESC:Events for The Arc of Northern Virginia
REFRESH-INTERVAL;VALUE=DURATION:PT1H
X-Robots-Tag:noindex
X-PUBLISHED-TTL:PT1H
BEGIN:VTIMEZONE
TZID:America/New_York
BEGIN:DAYLIGHT
TZOFFSETFROM:-0500
TZOFFSETTO:-0400
TZNAME:EDT
DTSTART:20240310T070000
END:DAYLIGHT
BEGIN:STANDARD
TZOFFSETFROM:-0400
TZOFFSETTO:-0500
TZNAME:EST
DTSTART:20241103T060000
END:STANDARD
BEGIN:DAYLIGHT
TZOFFSETFROM:-0500
TZOFFSETTO:-0400
TZNAME:EDT
DTSTART:20250309T070000
END:DAYLIGHT
BEGIN:STANDARD
TZOFFSETFROM:-0400
TZOFFSETTO:-0500
TZNAME:EST
DTSTART:20251102T060000
END:STANDARD
BEGIN:DAYLIGHT
TZOFFSETFROM:-0500
TZOFFSETTO:-0400
TZNAME:EDT
DTSTART:20260308T070000
END:DAYLIGHT
BEGIN:STANDARD
TZOFFSETFROM:-0400
TZOFFSETTO:-0500
TZNAME:EST
DTSTART:20261101T060000
END:STANDARD
END:VTIMEZONE
BEGIN:VEVENT
DTSTART;TZID=America/New_York:20250609T110000
DTEND;TZID=America/New_York:20250609T123000
DTSTAMP:20260422T022130
CREATED:20250505T173520Z
LAST-MODIFIED:20250506T145407Z
UID:8426-1749466800-1749472200@thearcofnova.org
SUMMARY:Lunch Bunch Social Club
DESCRIPTION:  \nThe Tech for Independent Living team is hosting a brand-new social event just for adults with disabilities (18+)\, and we’d love for you to join us! Come hang out\, meet new people\, and practice your social skills in a relaxed\, fun space. We’ll do some role-playing and activities to help break the ice and build confidence. \n  \nBring your own lunch \n  \nWe can’t wait to see you there and start making connections together! \n  \n\n					\n				Register Now
URL:https://thearcofnova.org/event/lunch-bunch/
LOCATION:The Arc of Northern Virginia\, 3060 Williams Drive Suite 300\, Fairfax\, VA\, 22031\, United States
CATEGORIES:tfil
END:VEVENT
END:VCALENDAR