BEGIN:VCALENDAR
VERSION:2.0
PRODID:-//The Arc of Northern Virginia - ECPv6.15.20//NONSGML v1.0//EN
CALSCALE:GREGORIAN
METHOD:PUBLISH
X-ORIGINAL-URL:https://thearcofnova.org
X-WR-CALDESC:Events for The Arc of Northern Virginia
REFRESH-INTERVAL;VALUE=DURATION:PT1H
X-Robots-Tag:noindex
X-PUBLISHED-TTL:PT1H
BEGIN:VTIMEZONE
TZID:America/New_York
BEGIN:DAYLIGHT
TZOFFSETFROM:-0500
TZOFFSETTO:-0400
TZNAME:EDT
DTSTART:20240310T070000
END:DAYLIGHT
BEGIN:STANDARD
TZOFFSETFROM:-0400
TZOFFSETTO:-0500
TZNAME:EST
DTSTART:20241103T060000
END:STANDARD
BEGIN:DAYLIGHT
TZOFFSETFROM:-0500
TZOFFSETTO:-0400
TZNAME:EDT
DTSTART:20250309T070000
END:DAYLIGHT
BEGIN:STANDARD
TZOFFSETFROM:-0400
TZOFFSETTO:-0500
TZNAME:EST
DTSTART:20251102T060000
END:STANDARD
BEGIN:DAYLIGHT
TZOFFSETFROM:-0500
TZOFFSETTO:-0400
TZNAME:EDT
DTSTART:20260308T070000
END:DAYLIGHT
BEGIN:STANDARD
TZOFFSETFROM:-0400
TZOFFSETTO:-0500
TZNAME:EST
DTSTART:20261101T060000
END:STANDARD
END:VTIMEZONE
BEGIN:VEVENT
DTSTART;TZID=America/New_York:20250620T100000
DTEND;TZID=America/New_York:20250620T150000
DTSTAMP:20260422T022345
CREATED:20250506T193325Z
LAST-MODIFIED:20250506T193325Z
UID:8442-1750413600-1750431600@thearcofnova.org
SUMMARY:Metro Travel Training
DESCRIPTION:Interested in travel training? Come join our Tech for Independent Living (TFIL) team on a metro trip! \nIndividuals with disabilities and a designated adult are invited to join our TFIL team on a short Metro trip. During this practice trip\, individuals with disabilities will learn basic travel skills and will become more comfortable traveling on the Metro. SmarTrip cards will be provided. \nThese in-person travel training events are FREE to attend\, but pre-registration is required. \n  \n\n					\n				Register Now
URL:https://thearcofnova.org/event/metro-travel-training-9/
LOCATION:Dunn-Loring Merrifield Metro Station\, 2700 Gallows Road\, Vienna\, VA\, 22180\, United States
CATEGORIES:tfil,travel
END:VEVENT
END:VCALENDAR