BEGIN:VCALENDAR
VERSION:2.0
PRODID:-//The Arc of Northern Virginia - ECPv6.15.20//NONSGML v1.0//EN
CALSCALE:GREGORIAN
METHOD:PUBLISH
X-WR-CALNAME:The Arc of Northern Virginia
X-ORIGINAL-URL:https://thearcofnova.org
X-WR-CALDESC:Events for The Arc of Northern Virginia
REFRESH-INTERVAL;VALUE=DURATION:PT1H
X-Robots-Tag:noindex
X-PUBLISHED-TTL:PT1H
BEGIN:VTIMEZONE
TZID:America/New_York
BEGIN:DAYLIGHT
TZOFFSETFROM:-0500
TZOFFSETTO:-0400
TZNAME:EDT
DTSTART:20250309T070000
END:DAYLIGHT
BEGIN:STANDARD
TZOFFSETFROM:-0400
TZOFFSETTO:-0500
TZNAME:EST
DTSTART:20251102T060000
END:STANDARD
BEGIN:DAYLIGHT
TZOFFSETFROM:-0500
TZOFFSETTO:-0400
TZNAME:EDT
DTSTART:20260308T070000
END:DAYLIGHT
BEGIN:STANDARD
TZOFFSETFROM:-0400
TZOFFSETTO:-0500
TZNAME:EST
DTSTART:20261101T060000
END:STANDARD
BEGIN:DAYLIGHT
TZOFFSETFROM:-0500
TZOFFSETTO:-0400
TZNAME:EDT
DTSTART:20270314T070000
END:DAYLIGHT
BEGIN:STANDARD
TZOFFSETFROM:-0400
TZOFFSETTO:-0500
TZNAME:EST
DTSTART:20271107T060000
END:STANDARD
END:VTIMEZONE
BEGIN:VEVENT
DTSTART;TZID=America/New_York:20260513T110000
DTEND;TZID=America/New_York:20260513T120000
DTSTAMP:20260421T060714
CREATED:20260420T175204Z
LAST-MODIFIED:20260420T175204Z
UID:9658-1778670000-1778673600@thearcofnova.org
SUMMARY:Digital Literacy Class: Online Citizenship & Safety
DESCRIPTION:  \nPresented by The Arc of Harrisonburg and Rockingham \nOrganized by The Arc of Northern Virginia  \n    \nOnline Citizenship is how we socialize with other people online\, which can sometimes be confusing and unsafe. This virtual class\, sponsored by AT&T\, will be led by Hiesun Ho from the Arc of Harrisonburg and Rockingham. Throughout the course Hiesun will discuss what it means to be an online citizen\, how to be safe when socializing online\, avoiding common scams\, and identifying true or false information on the internet. This course is open to participants of all ages who have intellectual or developmental disabilities. It is designed for people interested in becoming independent in their online interactions.  \nEvent Details \n\nDate: This is a 2-day event. Part one will take place on Wednesday\, May 13th. The second class will take place on Friday\, May 15th.\nTime: 11:00 AM – 12:00 PM\nLocation: Virtually on Zoom\n\n\nIf you have any additional questions\, please reach out to maggie.morgan@thearcofnova.org. \n  \n\n					\n				Register Now
URL:https://thearcofnova.org/event/digital-literacy-class-online-citizenship-safety/
LOCATION:Live\, online webinar
CATEGORIES:tfil
END:VEVENT
END:VCALENDAR