BEGIN:VCALENDAR
VERSION:2.0
PRODID:-//The Arc of Northern Virginia - ECPv6.15.20//NONSGML v1.0//EN
CALSCALE:GREGORIAN
METHOD:PUBLISH
X-WR-CALNAME:The Arc of Northern Virginia
X-ORIGINAL-URL:https://thearcofnova.org
X-WR-CALDESC:Events for The Arc of Northern Virginia
REFRESH-INTERVAL;VALUE=DURATION:PT1H
X-Robots-Tag:noindex
X-PUBLISHED-TTL:PT1H
BEGIN:VTIMEZONE
TZID:America/New_York
BEGIN:DAYLIGHT
TZOFFSETFROM:-0500
TZOFFSETTO:-0400
TZNAME:EDT
DTSTART:20240310T070000
END:DAYLIGHT
BEGIN:STANDARD
TZOFFSETFROM:-0400
TZOFFSETTO:-0500
TZNAME:EST
DTSTART:20241103T060000
END:STANDARD
BEGIN:DAYLIGHT
TZOFFSETFROM:-0500
TZOFFSETTO:-0400
TZNAME:EDT
DTSTART:20250309T070000
END:DAYLIGHT
BEGIN:STANDARD
TZOFFSETFROM:-0400
TZOFFSETTO:-0500
TZNAME:EST
DTSTART:20251102T060000
END:STANDARD
BEGIN:DAYLIGHT
TZOFFSETFROM:-0500
TZOFFSETTO:-0400
TZNAME:EDT
DTSTART:20260308T070000
END:DAYLIGHT
BEGIN:STANDARD
TZOFFSETFROM:-0400
TZOFFSETTO:-0500
TZNAME:EST
DTSTART:20261101T060000
END:STANDARD
END:VTIMEZONE
BEGIN:VEVENT
DTSTART;TZID=America/New_York:20250701T093000
DTEND;TZID=America/New_York:20250701T144500
DTSTAMP:20260424T011138
CREATED:20250513T190701Z
LAST-MODIFIED:20251103T160841Z
UID:8469-1751362200-1751381100@thearcofnova.org
SUMMARY:Virginia DMV Comes to The Arc of Northern Virginia
DESCRIPTION:  \nWHEN: Tuesday\, July 1st from 9:30 AM – 2:45 PM\n\nWHERE:  \nThe Arc of Northern Virginia\n3060 Williams Drive\, Suite 300\nFairfax\, VA 22031 \nDMV Connect will be held in the ground floor lobby meeting space.\n\nVirginia Department of Motor Vehicles (DMV) personnel will be at The Arc of Northern Virginia on Tuesday\, July 1st\, from 9:30- 2:45 PM. DMV Connect teams are equipped to conduct all DMV transactions except vital records and testing.  Below is a list of all services they will be able to conduct at the event. Services are available for the whole family!  \nDMV Connect offers:\n \n\nREAL ID\nDriver’s Licenses\nIdentification Cards (Adult and Child)\nAdding Medical Indicator to ID Card\nDisabled Parking Placards\nVehicle Titles (Titles will be mailed to customers)\nHunting & Fishing Licenses\nVirginia Vital Records (Birth\, death\, marriage\, and divorce certificates – will be mailed to customers)\nAddress Changes\nVehicle Registrations\nCompliance Summaries\nTranscripts\n\n\nTo ensure your appointment goes smoothly\, PLAN AHEAD and gather all your original documents. Photocopies will NOT be accepted.  \n  \nTo schedule your appointment or if you have any questions\, please email aafrica@thearcofnova.org. \n  \n(NOTE: Registration for this event is almost full!)
URL:https://thearcofnova.org/event/virginia-dmv-comes-to-the-arc-of-northern-virginia/
LOCATION:The Arc of Northern Virginia\, 3060 Williams Drive Suite 300\, Fairfax\, VA\, 22031\, United States
CATEGORIES:dmv services
END:VEVENT
BEGIN:VEVENT
DTSTART;TZID=America/New_York:20250703T120000
DTEND;TZID=America/New_York:20250703T130000
DTSTAMP:20260424T011138
CREATED:20241205T184452Z
LAST-MODIFIED:20241205T184452Z
UID:7974-1751544000-1751547600@thearcofnova.org
SUMMARY:Building Independence with the TFIL Team
DESCRIPTION:The Tech for Independent Living Team invites you to join their monthly virtual event on the FIRST Thursday of each month to discover the amazing Arc2Independence app! It’s designed to help individuals achieve independence within their daily lives and navigate challenges in the community. They can’t wait to share this with you! \nJoin the team every first Thursday of the month to learn more about the app\, these customizable lessons\, and the service and support the team provides that helps guide individuals through life’s daily routines and challenges. \nRemember\, all of our webinar events are FREE to attend\, but pre-registration is required. \n  \n\n					\n				Register Now
URL:https://thearcofnova.org/event/building-independence-with-the-tfil-team-11/
LOCATION:Live\, online virtual meeting on Zoom
CATEGORIES:Arc2Independence,tfil
END:VEVENT
BEGIN:VEVENT
DTSTART;TZID=America/New_York:20250708T100000
DTEND;TZID=America/New_York:20250708T110000
DTSTAMP:20260424T011138
CREATED:20250519T160433Z
LAST-MODIFIED:20250519T160433Z
UID:8497-1751968800-1751972400@thearcofnova.org
SUMMARY:Trust Talk Tuesday
DESCRIPTION:These small group discussions will focus on Special Needs Trusts and futures planning. We will walk you through the importance of planning for the future of your loved one with a disability\, why trusts are important\, and other critical services and programs and benefits that you should consider. \nQuestions pertaining to general disability issues in regards to future financial planning are welcome. \n  \n\n					\n				Register Now
URL:https://thearcofnova.org/event/trust-talk-tuesday-20/
LOCATION:Live\, online virtual meeting on Zoom
CATEGORIES:special needs trust
END:VEVENT
BEGIN:VEVENT
DTSTART;TZID=America/New_York:20250710T120000
DTEND;TZID=America/New_York:20250710T130000
DTSTAMP:20260424T011138
CREATED:20250331T144508Z
LAST-MODIFIED:20250331T144508Z
UID:8326-1752148800-1752152400@thearcofnova.org
SUMMARY:Transition Lunch & Learn
DESCRIPTION:  \nTransition Lunch and Learn is held on the second Thursday of the month\, facilitated by Diane Monnig\, Director of Programs. These sessions are not recorded. \nPlanning to transition from school to adult services can be overwhelming. Once your child exits the school system\, adult services are based on eligibility criteria and funding availability. These small group sessions are an opportunity to begin creating a plan for the future. Learn what employment and meaningful day support services are available\, how to explore post-secondary options\, what transportation supports exist\, how to help your child make decisions and advocate\, when to apply for SSI and manage benefits\, and what recreation activities are available. This informal opportunity is to ask questions and discuss with the facilitator and other participants. \n\n					\n				Register Now
URL:https://thearcofnova.org/event/transition-lunch-learn-10/
LOCATION:Live\, online virtual meeting on Zoom
CATEGORIES:transition
END:VEVENT
BEGIN:VEVENT
DTSTART;TZID=America/New_York:20250718T110000
DTEND;TZID=America/New_York:20250718T120000
DTSTAMP:20260424T011138
CREATED:20250618T193507Z
LAST-MODIFIED:20250618T193507Z
UID:8556-1752836400-1752840000@thearcofnova.org
SUMMARY:Arc2Independence Connect
DESCRIPTION:  \n \nStay connected and informed by joining our quarterly meet-ups. Arc2Independence Connect is a quarterly discussion group where app users\, parents\, caregivers\, disability professionals\, and others can come together on Zoom to share their experiences with the app.\nWhether you’re a longtime user or just getting started\, this is a great chance to:\n\n\nGet the latest app updates – Learn about new features and enhancements designed to improve your experience.\nShare your story – Share your own tips and success stories with the group—your experience might just help someone else\nAsk questions – Our team will be on hand to offer live support and answer any questions you might have.\nHear from others in the community – Hear about how they are using the app to promote independence. \n\n\n\n					\n				Register Now
URL:https://thearcofnova.org/event/arc2independence-connect-3/
LOCATION:Live\, online virtual meeting on Zoom
CATEGORIES:Arc2Independence
END:VEVENT
BEGIN:VEVENT
DTSTART;TZID=America/New_York:20250722T100000
DTEND;TZID=America/New_York:20250722T110000
DTSTAMP:20260424T011138
CREATED:20250519T160651Z
LAST-MODIFIED:20250519T160651Z
UID:8498-1753178400-1753182000@thearcofnova.org
SUMMARY:Trust Talk Tuesday
DESCRIPTION:These small group discussions will focus on Special Needs Trusts and futures planning. We will walk you through the importance of planning for the future of your loved one with a disability\, why trusts are important\, and other critical services and programs and benefits that you should consider. \nQuestions pertaining to general disability issues in regards to future financial planning are welcome. \n  \n\n					\n				Register Now
URL:https://thearcofnova.org/event/trust-talk-tuesday-21/
LOCATION:Live\, online virtual meeting on Zoom
CATEGORIES:special needs trust
END:VEVENT
BEGIN:VEVENT
DTSTART;TZID=America/New_York:20250722T190000
DTEND;TZID=America/New_York:20250722T200000
DTSTAMP:20260424T011138
CREATED:20250506T192405Z
LAST-MODIFIED:20250506T192405Z
UID:8439-1753210800-1753214400@thearcofnova.org
SUMMARY:TFIL Talks: Authenticity
DESCRIPTION:  \nJoin the Tech for Independent Living Team as they teach a lesson from their Arc2Independence App library. The lessons cover a range of categories\, including transportation and traveling\, deployment\, safety\, and daily living. During the sessions\, individuals can participate in group discussions\, games\, and activities to practice their skills. \n\n					\n				Register Now
URL:https://thearcofnova.org/event/tfil-talks-authenticity/
LOCATION:Live\, online virtual meeting on Zoom
CATEGORIES:Arc2Independence,tfil
END:VEVENT
BEGIN:VEVENT
DTSTART;TZID=America/New_York:20250725T100000
DTEND;TZID=America/New_York:20250725T150000
DTSTAMP:20260424T011138
CREATED:20250506T193836Z
LAST-MODIFIED:20250506T194001Z
UID:8443-1753437600-1753455600@thearcofnova.org
SUMMARY:Metro Travel Training
DESCRIPTION:Interested in travel training? Come join our Tech for Independent Living (TFIL) team on a metro trip! \nIndividuals with disabilities and a designated adult are invited to join our TFIL team on a short Metro trip. During this practice trip\, individuals with disabilities will learn basic travel skills and will become more comfortable traveling on the Metro. SmarTrip cards will be provided. \nThese in-person travel training events are FREE to attend\, but pre-registration is required. \n  \n\n					\n				Register Now
URL:https://thearcofnova.org/event/metro-travel-training-10/
LOCATION:Dunn-Loring Merrifield Metro Station\, 2700 Gallows Road\, Vienna\, VA\, 22180\, United States
CATEGORIES:tfil,travel
END:VEVENT
BEGIN:VEVENT
DTSTART;TZID=America/New_York:20250726T100000
DTEND;TZID=America/New_York:20250726T120000
DTSTAMP:20260424T011138
CREATED:20250626T152322Z
LAST-MODIFIED:20250626T152322Z
UID:8573-1753524000-1753531200@thearcofnova.org
SUMMARY:Transition Parents Support Group
DESCRIPTION:  \nThe Arc of Northern Virginia’s Transition Support group meets every other month in person at our offices at 3060 Williams Dr. #300\, Fairfax\, VA 22031. Meetings provide a forum to share resources\, ask questions\, and be surrounded and supported by families who understand the thrills and challenges of navigating life after leaving school. There are occasional guest speakers who provide information about topics of interest. The group is led by Rob Hudson\, Digital Communications Manager and Frank Trippett Advocacy and Outreach Fellow. If you have questions\, contact him at rob.hudson@thearcofnova.org. \n  \n\n					\n				Register Now
URL:https://thearcofnova.org/event/transition-parents-support-group-6/
LOCATION:The Arc of Northern Virginia\, 3060 Williams Drive Suite 300\, Fairfax\, VA\, 22031\, United States
CATEGORIES:parent support
END:VEVENT
BEGIN:VEVENT
DTSTART;TZID=America/New_York:20250730T190000
DTEND;TZID=America/New_York:20250730T200000
DTSTAMP:20260424T011138
CREATED:20250715T173850Z
LAST-MODIFIED:20250715T173850Z
UID:8623-1753902000-1753905600@thearcofnova.org
SUMMARY:Lo básico del Seguro Social
DESCRIPTION:  \n¡The Arc of Northern Virginia se complace en ofrecer un taller en línea en español sobre lo básico del Seguro Social! \nMajo Flores será la facilitadora de esta sesión y compartirá información clave en español para ayudar a las familias a entender mejor los beneficios a los que sus seres queridos podrían tener derecho. ¡Ayúdanos a correr la voz para que más familias puedan asistir y aprovechar este recurso tan importante! \n  \nThe Arc of Northern Virginia is excited to host this online Spanish workshop about the basics of Social Security\, calculating rent\, and reporting changes to Social Security. (presented in Spanish) \n  \nMajo Flores will be leading the session and sharing key information in Spanish to help families better understand the benefits their loved ones may be eligible for. Please help us spread the word so more families can attend and benefit from this important resource! \n  \n\n					\n				Register Now
URL:https://thearcofnova.org/event/lo-basico-del-seguro-social/
LOCATION:Live\, online virtual meeting on Zoom
CATEGORIES:en español,social security
END:VEVENT
BEGIN:VEVENT
DTSTART;TZID=America/New_York:20250731T120000
DTEND;TZID=America/New_York:20250731T130000
DTSTAMP:20260424T011138
CREATED:20250731T144707Z
LAST-MODIFIED:20250731T144707Z
UID:8682-1753963200-1753966800@thearcofnova.org
SUMMARY:Transition Lunch & Learn
DESCRIPTION:  \nTransition Lunch and Learn is held on the second Thursday of the month\, facilitated by Diane Monnig\, Director of Programs. These sessions are not recorded. \nPlanning to transition from school to adult services can be overwhelming. Once your child exits the school system\, adult services are based on eligibility criteria and funding availability. These small group sessions are an opportunity to begin creating a plan for the future. Learn what employment and meaningful day support services are available\, how to explore post-secondary options\, what transportation supports exist\, how to help your child make decisions and advocate\, when to apply for SSI and manage benefits\, and what recreation activities are available. This informal opportunity is to ask questions and discuss with the facilitator and other participants. \n\n					\n				Register Now
URL:https://thearcofnova.org/event/transition-lunch-learn-14/
LOCATION:Live\, online virtual meeting on Zoom
CATEGORIES:transition
END:VEVENT
END:VCALENDAR