BEGIN:VCALENDAR
VERSION:2.0
PRODID:-//The Arc of Northern Virginia - ECPv6.15.20//NONSGML v1.0//EN
CALSCALE:GREGORIAN
METHOD:PUBLISH
X-WR-CALNAME:The Arc of Northern Virginia
X-ORIGINAL-URL:https://thearcofnova.org
X-WR-CALDESC:Events for The Arc of Northern Virginia
REFRESH-INTERVAL;VALUE=DURATION:PT1H
X-Robots-Tag:noindex
X-PUBLISHED-TTL:PT1H
BEGIN:VTIMEZONE
TZID:America/New_York
BEGIN:DAYLIGHT
TZOFFSETFROM:-0500
TZOFFSETTO:-0400
TZNAME:EDT
DTSTART:20250309T070000
END:DAYLIGHT
BEGIN:STANDARD
TZOFFSETFROM:-0400
TZOFFSETTO:-0500
TZNAME:EST
DTSTART:20251102T060000
END:STANDARD
BEGIN:DAYLIGHT
TZOFFSETFROM:-0500
TZOFFSETTO:-0400
TZNAME:EDT
DTSTART:20260308T070000
END:DAYLIGHT
BEGIN:STANDARD
TZOFFSETFROM:-0400
TZOFFSETTO:-0500
TZNAME:EST
DTSTART:20261101T060000
END:STANDARD
BEGIN:DAYLIGHT
TZOFFSETFROM:-0500
TZOFFSETTO:-0400
TZNAME:EDT
DTSTART:20270314T070000
END:DAYLIGHT
BEGIN:STANDARD
TZOFFSETFROM:-0400
TZOFFSETTO:-0500
TZNAME:EST
DTSTART:20271107T060000
END:STANDARD
END:VTIMEZONE
BEGIN:VEVENT
DTSTART;TZID=America/New_York:20260203T100000
DTEND;TZID=America/New_York:20260203T110000
DTSTAMP:20260423T150057
CREATED:20251125T153555Z
LAST-MODIFIED:20251125T153555Z
UID:8961-1770112800-1770116400@thearcofnova.org
SUMMARY:Trust Talk Tuesday
DESCRIPTION:These small group discussions will focus on Special Needs Trusts and futures planning. We will walk you through the importance of planning for the future of your loved one with a disability\, why trusts are important\, and other critical services and programs and benefits that you should consider. \nQuestions pertaining to general disability issues in regards to future financial planning are welcome. \n  \n\n					\n				Register Now
URL:https://thearcofnova.org/event/trust-talk-tuesday-34/
LOCATION:Live\, online virtual meeting on Zoom
CATEGORIES:special needs trust
END:VEVENT
BEGIN:VEVENT
DTSTART;TZID=America/New_York:20260205T120000
DTEND;TZID=America/New_York:20260205T130000
DTSTAMP:20260423T150057
CREATED:20251216T160109Z
LAST-MODIFIED:20251216T160109Z
UID:8998-1770292800-1770296400@thearcofnova.org
SUMMARY:Building Independence with the TFIL Team
DESCRIPTION:The Tech for Independent Living Team invites you to join their monthly virtual event on the FIRST Thursday of each month to discover the amazing Arc2Independence app! It’s designed to help individuals achieve independence within their daily lives and navigate challenges in the community. They can’t wait to share this with you! \nJoin the team every first Thursday of the month to learn more about the app\, these customizable lessons\, and the service and support the team provides that helps guide individuals through life’s daily routines and challenges. \nRemember\, all of our webinar events are FREE to attend\, but pre-registration is required. \n  \n\n					\n				Register Now
URL:https://thearcofnova.org/event/building-independence-with-the-tfil-team-16/
LOCATION:Live\, online virtual meeting on Zoom
CATEGORIES:Arc2Independence,tfil
END:VEVENT
BEGIN:VEVENT
DTSTART;TZID=America/New_York:20260210T063000
DTEND;TZID=America/New_York:20260210T150000
DTSTAMP:20260423T150057
CREATED:20260105T163419Z
LAST-MODIFIED:20260115T170127Z
UID:9019-1770705000-1770735600@thearcofnova.org
SUMMARY:Advocacy Bus to Richmond
DESCRIPTION:  \nThis event offers a valuable opportunity for grassroots advocates like you to connect directly with legislators and fellow disability-policy allies from across the region\, raise our voices on critical issues (DD Waiver waiting lists\, guardianship and voting access\, employment barriers\, and more\, and help shape meaningful policy change. \nBus: Meet at our office building at 6:30-6:45am. The bus leaves promptly at 6:45am. \nDrivers: Arrive in Richmond by 8L45 to find garage parking \n\nLunch voucher provided for cafeteria\nWater and snacks on the bus\nWear comfortable\, office-appropriate clothing and shoes\nOrange scarves\nBe prepared to carry your coat\n\nWatch DD Advocacy Days Prep 2026 for more information.\n  \n\n					\n				RSVP
URL:https://thearcofnova.org/event/advocacy-bus-to-richmond/
LOCATION:The Arc of Northern Virginia\, 3060 Williams Drive Suite 300\, Fairfax\, VA\, 22031\, United States
CATEGORIES:legislative advocacy
END:VEVENT
BEGIN:VEVENT
DTSTART;TZID=America/New_York:20260211T100000
DTEND;TZID=America/New_York:20260211T143000
DTSTAMP:20260423T150057
CREATED:20251216T155500Z
LAST-MODIFIED:20260127T161758Z
UID:8995-1770804000-1770820200@thearcofnova.org
SUMMARY:TFIL & WMATA Travel Trip
DESCRIPTION:  \n(Originally scheduled for January 28\, rescheduled due to inclement weather.)\nWe’re excited to partner with Gernae Ocasio\, WMATA’s Metro System Orientation Specialist\, to offer you a unique travel experience!  \nYou’ll get to board a private  Metrobus and ride the Metrorail to Pentagon City Mall\, all while gaining valuable experience with public transit in the DMV area. Gernae and the TFIL team will be there to guide you\, helping you navigate stations\, board safely\, and identify key safety features. Plus\, you’ll have the chance to ask any questions you might have about the transit system and get personalized tips to help you feel confident traveling on your own. \n\nWHERE: The Arc of Northern Virginia’s office (3060 Williams Drive. Suite 300\, Fairfax\, VA\, 22031) to Pentagon City Mall.\n \nDATE: Wednesday\, February 11th\, 2026\n \nTIME: 10:00 AM- 2:30 PM\nThese in-person travel training events are FREE to attend and include SmarTrip cards\, but pre-registration is required. If you have any questions or you are part of a group looking for TFIL to plan a trip\, please contact techforindependence@thearcofnova.org.\n\n\n					\n				Register Now
URL:https://thearcofnova.org/event/tfil-wmata-travel-trip/
LOCATION:The Arc of Northern Virginia\, 3060 Williams Drive Suite 300\, Fairfax\, VA\, 22031\, United States
CATEGORIES:travel
END:VEVENT
BEGIN:VEVENT
DTSTART;TZID=America/New_York:20260212T120000
DTEND;TZID=America/New_York:20260212T130000
DTSTAMP:20260423T150057
CREATED:20260106T194257Z
LAST-MODIFIED:20260106T194257Z
UID:9030-1770897600-1770901200@thearcofnova.org
SUMMARY:Transition Lunch & Learn
DESCRIPTION:  \nTransition Lunch and Learn is held on the second Thursday of the month\, facilitated by Diane Monnig\, Director of Programs. These sessions are not recorded. \nPlanning to transition from school to adult services can be overwhelming. Once your child exits the school system\, adult services are based on eligibility criteria and funding availability. These small group sessions are an opportunity to begin creating a plan for the future. Learn what employment and meaningful day support services are available\, how to explore post-secondary options\, what transportation supports exist\, how to help your child make decisions and advocate\, when to apply for SSI and manage benefits\, and what recreation activities are available. This informal opportunity is to ask questions and discuss with the facilitator and other participants. \n\n					\n				Register Now
URL:https://thearcofnova.org/event/transition-lunch-learn-17/
LOCATION:Live\, online virtual meeting on Zoom
CATEGORIES:transition
END:VEVENT
BEGIN:VEVENT
DTSTART;TZID=America/New_York:20260217T100000
DTEND;TZID=America/New_York:20260217T110000
DTSTAMP:20260423T150057
CREATED:20251125T154007Z
LAST-MODIFIED:20251125T162850Z
UID:8962-1771322400-1771326000@thearcofnova.org
SUMMARY:Trust Talk Tuesday
DESCRIPTION:These small group discussions will focus on Special Needs Trusts and futures planning. We will walk you through the importance of planning for the future of your loved one with a disability\, why trusts are important\, and other critical services and programs and benefits that you should consider. \nQuestions pertaining to general disability issues in regards to future financial planning are welcome. \n  \n\n					\n				Register Now
URL:https://thearcofnova.org/event/trust-talk-tuesday-35/
LOCATION:Live\, online virtual meeting on Zoom
CATEGORIES:special needs trust
END:VEVENT
BEGIN:VEVENT
DTSTART;TZID=America/New_York:20260217T100000
DTEND;TZID=America/New_York:20260217T130000
DTSTAMP:20260423T150057
CREATED:20251216T191536Z
LAST-MODIFIED:20260212T154321Z
UID:9000-1771322400-1771333200@thearcofnova.org
SUMMARY:Cooking with Confidence
DESCRIPTION:The Tech for Independent Living Team invites people with disabilities (age 14+) to join our inclusive cooking club. In this club\, you’ll use our app\, Arc2Independence\, to guide you through step-by-step instructional cooking. \n\n \nWhat’s On the Menu?\n \n\nMelt N Munch Nachos\nChocolate Mug Cake\n\nDetails:\n\n\nDate: Tuesday\, February 17th\n\n\n\nTime: 10:00 AM – 1:00 PM\n\nLocation: The Arc of Northern Virginia Office (3060 Williams Drive\, Fairfax\, VA 22031)\n\nCost: $30.00\n\n\nCooking Tools to Bring:\n \n\nMicrowave Safe Bowl (Medium to Large)\n\nMicrowave Safe Plate\n\n1/2 Dry Cup\n\n1/4 Dry Cup\n\nTeaspoon\n\nTablespoon\n\nSpatula\n\nMixing Spoon\n\nContainer for leftovers (optional)\n\n\nPlease fill out this form and if you have questions\, contact techforindependence@thearcofnova.org.\n\n\n\n					\n				Register Now\n			\n		\n					\n				\n\n\n\n			\n			\n  \n 
URL:https://thearcofnova.org/event/cooking-with-confidence-feb26/
LOCATION:The Arc of Northern Virginia\, 3060 Williams Drive Suite 300\, Fairfax\, VA\, 22031\, United States
CATEGORIES:Arc2Independence
END:VEVENT
BEGIN:VEVENT
DTSTART;VALUE=DATE:20260218
DTEND;VALUE=DATE:20260219
DTSTAMP:20260423T150057
CREATED:20251121T193837Z
LAST-MODIFIED:20251121T193837Z
UID:8959-1771372800-1771459199@thearcofnova.org
SUMMARY:February Chat with an Attorney about Special Education
DESCRIPTION:  \nParents can schedule a free 45-minute meeting with attorney Patricia Connally to receive advice and guidance on any number of special education topics for their student. Appointments are for special education issues only. If you have a question about other legal matters\, please contact dmonnig@thearcofnova.org for additional resources. \n  \n\n					\n				Register Now!
URL:https://thearcofnova.org/event/february-chat-with-an-attorney-about-special-education-2/
LOCATION:Live\, online virtual meeting on Zoom
CATEGORIES:special education
END:VEVENT
BEGIN:VEVENT
DTSTART;TZID=America/New_York:20260224T100000
DTEND;TZID=America/New_York:20260224T110000
DTSTAMP:20260423T150057
CREATED:20260120T205334Z
LAST-MODIFIED:20260120T205836Z
UID:9059-1771927200-1771930800@thearcofnova.org
SUMMARY:Medicaid Waiver Basics
DESCRIPTION:  \nMedicaid Waivers are the way Virginia funds services for people with developmental disabilities. Everything from a small amount of respite\, to in-home care\, to employment supports are covered by Waivers. In this one hour presentation\, Lucy Beadnell\, our Director of Advocacy\, will review what Waivers are\, services Waivers offer\, how to apply\, and give tips for families on waiting lists for services. \n  \n\n					\n				Register Now
URL:https://thearcofnova.org/event/medicaid-waiver-basics-2/
LOCATION:Live\, online webinar
CATEGORIES:medicaid waivers
END:VEVENT
BEGIN:VEVENT
DTSTART;TZID=America/New_York:20260224T120000
DTEND;TZID=America/New_York:20260224T130000
DTSTAMP:20260423T150057
CREATED:20260105T182707Z
LAST-MODIFIED:20260107T153534Z
UID:9021-1771934400-1771938000@thearcofnova.org
SUMMARY:Estate Planning and Decision-Making for Families of Individuals with Disabilities
DESCRIPTION:  \n\nPlease join the Arc of Northern Virginia and Nicholas R. Thompson\, Esq.\, an attorney at Pender & Coward who focuses his practice on estate planning\, special needs planning\, and guardianship/conservatorship matters\, for an informational discussion about transition planning for parents and caregivers of disabled individuals. This one-hour discussion will focus on special needs estate planning (to include special needs trusts\, wills\, powers of attorney\, and advanced medical directives) and decision-making alternatives for transition-age children.\n\nPresented by: Nicholas R. Thompson\, Attorney\, Pender & Coward\n\nNicholas Thompson is an attorney with Pender & Coward who focuses his practice on serving individuals with disabilities and their families. He has extensive experience in special needs planning\, including special needs trusts\, guardianship and conservatorship matters\, and public benefits planning. Nicholas regularly works with families\, service providers\, and nonprofit organizations to help people with disabilities protect their rights\, plan for the future\, and maintain access to critical supports and services.\n\n\n\n					\n				Register Now
URL:https://thearcofnova.org/event/estate-planning-and-decision-making-for-families-of-individuals-with-disabilities/
LOCATION:Live\, online virtual meeting on Zoom
CATEGORIES:financial planning
END:VEVENT
BEGIN:VEVENT
DTSTART;TZID=America/New_York:20260224T190000
DTEND;TZID=America/New_York:20260224T200000
DTSTAMP:20260423T150057
CREATED:20251216T194024Z
LAST-MODIFIED:20260217T005201Z
UID:9002-1771959600-1771963200@thearcofnova.org
SUMMARY:TFIL Talks: Lessons from the Arc2Independence App
DESCRIPTION:  \nRelationships & Communication\nJoin the Tech for Independent Living Team as they teach a lesson from their Arc2Independence App library. The lessons cover a range of categories\, including transportation and traveling\, employment\, safety\, and daily living. During the sessions\, individuals can participate in group discussions\, games\, and activities to practice their skills. \n\n					\n				Register Now
URL:https://thearcofnova.org/event/tfil-talks-lessons-from-the-arc2independence-app-12/
LOCATION:Live\, online virtual meeting on Zoom
CATEGORIES:Arc2Independence
END:VEVENT
BEGIN:VEVENT
DTSTART;TZID=America/New_York:20260226T120000
DTEND;TZID=America/New_York:20260226T130000
DTSTAMP:20260423T150057
CREATED:20260120T205734Z
LAST-MODIFIED:20260120T205734Z
UID:9061-1772107200-1772110800@thearcofnova.org
SUMMARY:Supported Decision Making: What You Need to Know to Make Your Choice
DESCRIPTION:  \nIf you or a loved one with a disability are thinking about how to get help understanding and making choices now and for the future\, it is time to learn about Supported Decision Making. This collaborative\, empowering process helps leverage the strength of the person with a disability and their network while maintaining maximum civil rights and autonomy. Hear our Director of Advocacy\, Lucy Beadnell\, review what Supported Decision Making is\, how to get started\, and other related resources in this webinar. \n  \n\n					\n				Register Now
URL:https://thearcofnova.org/event/supported-decision-making/
LOCATION:Live\, online webinar
CATEGORIES:supported decision making
END:VEVENT
END:VCALENDAR